BEGIN:VCALENDAR
VERSION:2.0
PRODID:-//PickUp3 - ECPv6.15.17.1//NONSGML v1.0//EN
CALSCALE:GREGORIAN
METHOD:PUBLISH
X-WR-CALNAME:PickUp3
X-ORIGINAL-URL:https://pickup3.org
X-WR-CALDESC:Events for PickUp3
REFRESH-INTERVAL;VALUE=DURATION:PT1H
X-Robots-Tag:noindex
X-PUBLISHED-TTL:PT1H
BEGIN:VTIMEZONE
TZID:America/Vancouver
BEGIN:DAYLIGHT
TZOFFSETFROM:-0800
TZOFFSETTO:-0700
TZNAME:PDT
DTSTART:20260308T100000
END:DAYLIGHT
BEGIN:STANDARD
TZOFFSETFROM:-0700
TZOFFSETTO:-0800
TZNAME:PST
DTSTART:20261101T090000
END:STANDARD
BEGIN:DAYLIGHT
TZOFFSETFROM:-0800
TZOFFSETTO:-0700
TZNAME:PDT
DTSTART:20270314T100000
END:DAYLIGHT
BEGIN:STANDARD
TZOFFSETFROM:-0700
TZOFFSETTO:-0800
TZNAME:PST
DTSTART:20271107T090000
END:STANDARD
BEGIN:DAYLIGHT
TZOFFSETFROM:-0800
TZOFFSETTO:-0700
TZNAME:PDT
DTSTART:20280312T100000
END:DAYLIGHT
BEGIN:STANDARD
TZOFFSETFROM:-0700
TZOFFSETTO:-0800
TZNAME:PST
DTSTART:20281105T090000
END:STANDARD
END:VTIMEZONE
BEGIN:VEVENT
DTSTART;TZID=America/Vancouver:20270123T100000
DTEND;TZID=America/Vancouver:20270123T123000
DTSTAMP:20260422T160250
CREATED:20220626T224458Z
LAST-MODIFIED:20220626T224458Z
UID:2058-1800698400-1800707400@pickup3.org
SUMMARY:PickUp3 Centennial Beach
DESCRIPTION:
URL:https://pickup3.org/event/pickup3-centennial-beach/2027-01-23/
ORGANIZER;CN="Ocean Ambassadors Canada":MAILTO:info@oceanambassadorscanada.org
END:VEVENT
BEGIN:VEVENT
DTSTART;TZID=America/Vancouver:20270130T100000
DTEND;TZID=America/Vancouver:20270130T123000
DTSTAMP:20260422T160250
CREATED:20220626T224458Z
LAST-MODIFIED:20220626T224458Z
UID:2059-1801303200-1801312200@pickup3.org
SUMMARY:PickUp3 Centennial Beach
DESCRIPTION:
URL:https://pickup3.org/event/pickup3-centennial-beach/2027-01-30/
ORGANIZER;CN="Ocean Ambassadors Canada":MAILTO:info@oceanambassadorscanada.org
END:VEVENT
BEGIN:VEVENT
DTSTART;TZID=America/Vancouver:20270206T100000
DTEND;TZID=America/Vancouver:20270206T123000
DTSTAMP:20260422T160250
CREATED:20220626T224458Z
LAST-MODIFIED:20220626T224458Z
UID:2060-1801908000-1801917000@pickup3.org
SUMMARY:PickUp3 Centennial Beach
DESCRIPTION:
URL:https://pickup3.org/event/pickup3-centennial-beach/2027-02-06/
ORGANIZER;CN="Ocean Ambassadors Canada":MAILTO:info@oceanambassadorscanada.org
END:VEVENT
BEGIN:VEVENT
DTSTART;TZID=America/Vancouver:20270213T100000
DTEND;TZID=America/Vancouver:20270213T123000
DTSTAMP:20260422T160250
CREATED:20220626T224458Z
LAST-MODIFIED:20220626T224458Z
UID:2061-1802512800-1802521800@pickup3.org
SUMMARY:PickUp3 Centennial Beach
DESCRIPTION:
URL:https://pickup3.org/event/pickup3-centennial-beach/2027-02-13/
ORGANIZER;CN="Ocean Ambassadors Canada":MAILTO:info@oceanambassadorscanada.org
END:VEVENT
BEGIN:VEVENT
DTSTART;TZID=America/Vancouver:20270220T100000
DTEND;TZID=America/Vancouver:20270220T123000
DTSTAMP:20260422T160250
CREATED:20220626T224458Z
LAST-MODIFIED:20220626T224458Z
UID:2064-1803117600-1803126600@pickup3.org
SUMMARY:PickUp3 Centennial Beach
DESCRIPTION:
URL:https://pickup3.org/event/pickup3-centennial-beach/2027-02-20/
ORGANIZER;CN="Ocean Ambassadors Canada":MAILTO:info@oceanambassadorscanada.org
END:VEVENT
BEGIN:VEVENT
DTSTART;TZID=America/Vancouver:20270227T100000
DTEND;TZID=America/Vancouver:20270227T123000
DTSTAMP:20260422T160250
CREATED:20220626T224458Z
LAST-MODIFIED:20220626T224458Z
UID:2065-1803722400-1803731400@pickup3.org
SUMMARY:PickUp3 Centennial Beach
DESCRIPTION:
URL:https://pickup3.org/event/pickup3-centennial-beach/2027-02-27/
ORGANIZER;CN="Ocean Ambassadors Canada":MAILTO:info@oceanambassadorscanada.org
END:VEVENT
BEGIN:VEVENT
DTSTART;TZID=America/Vancouver:20270306T100000
DTEND;TZID=America/Vancouver:20270306T123000
DTSTAMP:20260422T160250
CREATED:20220626T224458Z
LAST-MODIFIED:20220626T224458Z
UID:2066-1804327200-1804336200@pickup3.org
SUMMARY:PickUp3 Centennial Beach
DESCRIPTION:
URL:https://pickup3.org/event/pickup3-centennial-beach/2027-03-06/
ORGANIZER;CN="Ocean Ambassadors Canada":MAILTO:info@oceanambassadorscanada.org
END:VEVENT
BEGIN:VEVENT
DTSTART;TZID=America/Vancouver:20270313T100000
DTEND;TZID=America/Vancouver:20270313T123000
DTSTAMP:20260422T160250
CREATED:20220626T224458Z
LAST-MODIFIED:20220626T224458Z
UID:2067-1804932000-1804941000@pickup3.org
SUMMARY:PickUp3 Centennial Beach
DESCRIPTION:
URL:https://pickup3.org/event/pickup3-centennial-beach/2027-03-13/
ORGANIZER;CN="Ocean Ambassadors Canada":MAILTO:info@oceanambassadorscanada.org
END:VEVENT
BEGIN:VEVENT
DTSTART;TZID=America/Vancouver:20270320T100000
DTEND;TZID=America/Vancouver:20270320T123000
DTSTAMP:20260422T160250
CREATED:20220626T224458Z
LAST-MODIFIED:20220626T224458Z
UID:2070-1805536800-1805545800@pickup3.org
SUMMARY:PickUp3 Centennial Beach
DESCRIPTION:
URL:https://pickup3.org/event/pickup3-centennial-beach/2027-03-20/
ORGANIZER;CN="Ocean Ambassadors Canada":MAILTO:info@oceanambassadorscanada.org
END:VEVENT
BEGIN:VEVENT
DTSTART;TZID=America/Vancouver:20270327T100000
DTEND;TZID=America/Vancouver:20270327T123000
DTSTAMP:20260422T160250
CREATED:20220626T224458Z
LAST-MODIFIED:20220626T224458Z
UID:2071-1806141600-1806150600@pickup3.org
SUMMARY:PickUp3 Centennial Beach
DESCRIPTION:
URL:https://pickup3.org/event/pickup3-centennial-beach/2027-03-27/
ORGANIZER;CN="Ocean Ambassadors Canada":MAILTO:info@oceanambassadorscanada.org
END:VEVENT
BEGIN:VEVENT
DTSTART;TZID=America/Vancouver:20270403T100000
DTEND;TZID=America/Vancouver:20270403T123000
DTSTAMP:20260422T160250
CREATED:20220626T224458Z
LAST-MODIFIED:20220626T224458Z
UID:2072-1806746400-1806755400@pickup3.org
SUMMARY:PickUp3 Centennial Beach
DESCRIPTION:
URL:https://pickup3.org/event/pickup3-centennial-beach/2027-04-03/
ORGANIZER;CN="Ocean Ambassadors Canada":MAILTO:info@oceanambassadorscanada.org
END:VEVENT
BEGIN:VEVENT
DTSTART;TZID=America/Vancouver:20270410T100000
DTEND;TZID=America/Vancouver:20270410T123000
DTSTAMP:20260422T160250
CREATED:20220626T224458Z
LAST-MODIFIED:20220626T224458Z
UID:2073-1807351200-1807360200@pickup3.org
SUMMARY:PickUp3 Centennial Beach
DESCRIPTION:
URL:https://pickup3.org/event/pickup3-centennial-beach/2027-04-10/
ORGANIZER;CN="Ocean Ambassadors Canada":MAILTO:info@oceanambassadorscanada.org
END:VEVENT
BEGIN:VEVENT
DTSTART;TZID=America/Vancouver:20270417T100000
DTEND;TZID=America/Vancouver:20270417T123000
DTSTAMP:20260422T160250
CREATED:20220626T224458Z
LAST-MODIFIED:20220626T224458Z
UID:2074-1807956000-1807965000@pickup3.org
SUMMARY:PickUp3 Centennial Beach
DESCRIPTION:
URL:https://pickup3.org/event/pickup3-centennial-beach/2027-04-17/
ORGANIZER;CN="Ocean Ambassadors Canada":MAILTO:info@oceanambassadorscanada.org
END:VEVENT
BEGIN:VEVENT
DTSTART;TZID=America/Vancouver:20270424T100000
DTEND;TZID=America/Vancouver:20270424T123000
DTSTAMP:20260422T160250
CREATED:20220626T224458Z
LAST-MODIFIED:20220626T224458Z
UID:2076-1808560800-1808569800@pickup3.org
SUMMARY:PickUp3 Centennial Beach
DESCRIPTION:
URL:https://pickup3.org/event/pickup3-centennial-beach/2027-04-24/
ORGANIZER;CN="Ocean Ambassadors Canada":MAILTO:info@oceanambassadorscanada.org
END:VEVENT
BEGIN:VEVENT
DTSTART;TZID=America/Vancouver:20270501T100000
DTEND;TZID=America/Vancouver:20270501T123000
DTSTAMP:20260422T160250
CREATED:20220626T224458Z
LAST-MODIFIED:20220626T224458Z
UID:2077-1809165600-1809174600@pickup3.org
SUMMARY:PickUp3 Centennial Beach
DESCRIPTION:
URL:https://pickup3.org/event/pickup3-centennial-beach/2027-05-01/
ORGANIZER;CN="Ocean Ambassadors Canada":MAILTO:info@oceanambassadorscanada.org
END:VEVENT
BEGIN:VEVENT
DTSTART;TZID=America/Vancouver:20270508T100000
DTEND;TZID=America/Vancouver:20270508T123000
DTSTAMP:20260422T160250
CREATED:20220626T224458Z
LAST-MODIFIED:20220626T224458Z
UID:2078-1809770400-1809779400@pickup3.org
SUMMARY:PickUp3 Centennial Beach
DESCRIPTION:
URL:https://pickup3.org/event/pickup3-centennial-beach/2027-05-08/
ORGANIZER;CN="Ocean Ambassadors Canada":MAILTO:info@oceanambassadorscanada.org
END:VEVENT
BEGIN:VEVENT
DTSTART;TZID=America/Vancouver:20270515T100000
DTEND;TZID=America/Vancouver:20270515T123000
DTSTAMP:20260422T160250
CREATED:20220626T224458Z
LAST-MODIFIED:20220626T224458Z
UID:2079-1810375200-1810384200@pickup3.org
SUMMARY:PickUp3 Centennial Beach
DESCRIPTION:
URL:https://pickup3.org/event/pickup3-centennial-beach/2027-05-15/
ORGANIZER;CN="Ocean Ambassadors Canada":MAILTO:info@oceanambassadorscanada.org
END:VEVENT
BEGIN:VEVENT
DTSTART;TZID=America/Vancouver:20270522T100000
DTEND;TZID=America/Vancouver:20270522T123000
DTSTAMP:20260422T160250
CREATED:20220626T224458Z
LAST-MODIFIED:20220626T224458Z
UID:2081-1810980000-1810989000@pickup3.org
SUMMARY:PickUp3 Centennial Beach
DESCRIPTION:
URL:https://pickup3.org/event/pickup3-centennial-beach/2027-05-22/
ORGANIZER;CN="Ocean Ambassadors Canada":MAILTO:info@oceanambassadorscanada.org
END:VEVENT
BEGIN:VEVENT
DTSTART;TZID=America/Vancouver:20270529T100000
DTEND;TZID=America/Vancouver:20270529T123000
DTSTAMP:20260422T160250
CREATED:20220626T224458Z
LAST-MODIFIED:20220626T224458Z
UID:2082-1811584800-1811593800@pickup3.org
SUMMARY:PickUp3 Centennial Beach
DESCRIPTION:
URL:https://pickup3.org/event/pickup3-centennial-beach/2027-05-29/
ORGANIZER;CN="Ocean Ambassadors Canada":MAILTO:info@oceanambassadorscanada.org
END:VEVENT
BEGIN:VEVENT
DTSTART;TZID=America/Vancouver:20270605T100000
DTEND;TZID=America/Vancouver:20270605T123000
DTSTAMP:20260422T160250
CREATED:20220626T224458Z
LAST-MODIFIED:20220626T224458Z
UID:2083-1812189600-1812198600@pickup3.org
SUMMARY:PickUp3 Centennial Beach
DESCRIPTION:
URL:https://pickup3.org/event/pickup3-centennial-beach/2027-06-05/
ORGANIZER;CN="Ocean Ambassadors Canada":MAILTO:info@oceanambassadorscanada.org
END:VEVENT
BEGIN:VEVENT
DTSTART;TZID=America/Vancouver:20270612T100000
DTEND;TZID=America/Vancouver:20270612T123000
DTSTAMP:20260422T160250
CREATED:20220626T224458Z
LAST-MODIFIED:20220626T224458Z
UID:2084-1812794400-1812803400@pickup3.org
SUMMARY:PickUp3 Centennial Beach
DESCRIPTION:
URL:https://pickup3.org/event/pickup3-centennial-beach/2027-06-12/
ORGANIZER;CN="Ocean Ambassadors Canada":MAILTO:info@oceanambassadorscanada.org
END:VEVENT
BEGIN:VEVENT
DTSTART;TZID=America/Vancouver:20270619T100000
DTEND;TZID=America/Vancouver:20270619T123000
DTSTAMP:20260422T160250
CREATED:20220626T224458Z
LAST-MODIFIED:20220626T224458Z
UID:2087-1813399200-1813408200@pickup3.org
SUMMARY:PickUp3 Centennial Beach
DESCRIPTION:
URL:https://pickup3.org/event/pickup3-centennial-beach/2027-06-19/
ORGANIZER;CN="Ocean Ambassadors Canada":MAILTO:info@oceanambassadorscanada.org
END:VEVENT
BEGIN:VEVENT
DTSTART;TZID=America/Vancouver:20270626T100000
DTEND;TZID=America/Vancouver:20270626T123000
DTSTAMP:20260422T160250
CREATED:20220626T224458Z
LAST-MODIFIED:20220626T224458Z
UID:2088-1814004000-1814013000@pickup3.org
SUMMARY:PickUp3 Centennial Beach
DESCRIPTION:
URL:https://pickup3.org/event/pickup3-centennial-beach/2027-06-26/
ORGANIZER;CN="Ocean Ambassadors Canada":MAILTO:info@oceanambassadorscanada.org
END:VEVENT
BEGIN:VEVENT
DTSTART;TZID=America/Vancouver:20270703T100000
DTEND;TZID=America/Vancouver:20270703T123000
DTSTAMP:20260422T160250
CREATED:20220626T224458Z
LAST-MODIFIED:20220626T224458Z
UID:2089-1814608800-1814617800@pickup3.org
SUMMARY:PickUp3 Centennial Beach
DESCRIPTION:
URL:https://pickup3.org/event/pickup3-centennial-beach/2027-07-03/
ORGANIZER;CN="Ocean Ambassadors Canada":MAILTO:info@oceanambassadorscanada.org
END:VEVENT
BEGIN:VEVENT
DTSTART;TZID=America/Vancouver:20270710T100000
DTEND;TZID=America/Vancouver:20270710T123000
DTSTAMP:20260422T160250
CREATED:20220626T224458Z
LAST-MODIFIED:20220626T224458Z
UID:2090-1815213600-1815222600@pickup3.org
SUMMARY:PickUp3 Centennial Beach
DESCRIPTION:
URL:https://pickup3.org/event/pickup3-centennial-beach/2027-07-10/
ORGANIZER;CN="Ocean Ambassadors Canada":MAILTO:info@oceanambassadorscanada.org
END:VEVENT
BEGIN:VEVENT
DTSTART;TZID=America/Vancouver:20270717T100000
DTEND;TZID=America/Vancouver:20270717T123000
DTSTAMP:20260422T160250
CREATED:20220626T224458Z
LAST-MODIFIED:20220626T224458Z
UID:2091-1815818400-1815827400@pickup3.org
SUMMARY:PickUp3 Centennial Beach
DESCRIPTION:
URL:https://pickup3.org/event/pickup3-centennial-beach/2027-07-17/
ORGANIZER;CN="Ocean Ambassadors Canada":MAILTO:info@oceanambassadorscanada.org
END:VEVENT
BEGIN:VEVENT
DTSTART;TZID=America/Vancouver:20270724T100000
DTEND;TZID=America/Vancouver:20270724T123000
DTSTAMP:20260422T160250
CREATED:20220626T224458Z
LAST-MODIFIED:20220626T224458Z
UID:2093-1816423200-1816432200@pickup3.org
SUMMARY:PickUp3 Centennial Beach
DESCRIPTION:
URL:https://pickup3.org/event/pickup3-centennial-beach/2027-07-24/
ORGANIZER;CN="Ocean Ambassadors Canada":MAILTO:info@oceanambassadorscanada.org
END:VEVENT
BEGIN:VEVENT
DTSTART;TZID=America/Vancouver:20270731T100000
DTEND;TZID=America/Vancouver:20270731T123000
DTSTAMP:20260422T160250
CREATED:20220626T224458Z
LAST-MODIFIED:20220626T224458Z
UID:2094-1817028000-1817037000@pickup3.org
SUMMARY:PickUp3 Centennial Beach
DESCRIPTION:
URL:https://pickup3.org/event/pickup3-centennial-beach/2027-07-31/
ORGANIZER;CN="Ocean Ambassadors Canada":MAILTO:info@oceanambassadorscanada.org
END:VEVENT
BEGIN:VEVENT
DTSTART;TZID=America/Vancouver:20270807T100000
DTEND;TZID=America/Vancouver:20270807T123000
DTSTAMP:20260422T160250
CREATED:20220626T224458Z
LAST-MODIFIED:20220626T224458Z
UID:2095-1817632800-1817641800@pickup3.org
SUMMARY:PickUp3 Centennial Beach
DESCRIPTION:
URL:https://pickup3.org/event/pickup3-centennial-beach/2027-08-07/
ORGANIZER;CN="Ocean Ambassadors Canada":MAILTO:info@oceanambassadorscanada.org
END:VEVENT
BEGIN:VEVENT
DTSTART;TZID=America/Vancouver:20270814T100000
DTEND;TZID=America/Vancouver:20270814T123000
DTSTAMP:20260422T160250
CREATED:20220626T224458Z
LAST-MODIFIED:20220626T224458Z
UID:2096-1818237600-1818246600@pickup3.org
SUMMARY:PickUp3 Centennial Beach
DESCRIPTION:
URL:https://pickup3.org/event/pickup3-centennial-beach/2027-08-14/
ORGANIZER;CN="Ocean Ambassadors Canada":MAILTO:info@oceanambassadorscanada.org
END:VEVENT
END:VCALENDAR