BEGIN:VCALENDAR
VERSION:2.0
PRODID:-//PickUp3 - ECPv6.15.17.1//NONSGML v1.0//EN
CALSCALE:GREGORIAN
METHOD:PUBLISH
X-WR-CALNAME:PickUp3
X-ORIGINAL-URL:https://pickup3.org
X-WR-CALDESC:Events for PickUp3
REFRESH-INTERVAL;VALUE=DURATION:PT1H
X-Robots-Tag:noindex
X-PUBLISHED-TTL:PT1H
BEGIN:VTIMEZONE
TZID:America/Vancouver
BEGIN:DAYLIGHT
TZOFFSETFROM:-0800
TZOFFSETTO:-0700
TZNAME:PDT
DTSTART:20240310T100000
END:DAYLIGHT
BEGIN:STANDARD
TZOFFSETFROM:-0700
TZOFFSETTO:-0800
TZNAME:PST
DTSTART:20241103T090000
END:STANDARD
BEGIN:DAYLIGHT
TZOFFSETFROM:-0800
TZOFFSETTO:-0700
TZNAME:PDT
DTSTART:20250309T100000
END:DAYLIGHT
BEGIN:STANDARD
TZOFFSETFROM:-0700
TZOFFSETTO:-0800
TZNAME:PST
DTSTART:20251102T090000
END:STANDARD
BEGIN:DAYLIGHT
TZOFFSETFROM:-0800
TZOFFSETTO:-0700
TZNAME:PDT
DTSTART:20260308T100000
END:DAYLIGHT
BEGIN:STANDARD
TZOFFSETFROM:-0700
TZOFFSETTO:-0800
TZNAME:PST
DTSTART:20261101T090000
END:STANDARD
END:VTIMEZONE
BEGIN:VEVENT
DTSTART;TZID=America/Vancouver:20250802T100000
DTEND;TZID=America/Vancouver:20250802T123000
DTSTAMP:20260423T033835
CREATED:20220626T224458Z
LAST-MODIFIED:20220626T224458Z
UID:1941-1754128800-1754137800@pickup3.org
SUMMARY:PickUp3 Centennial Beach
DESCRIPTION:
URL:https://pickup3.org/event/pickup3-centennial-beach/2025-08-02/
ORGANIZER;CN="Ocean Ambassadors Canada":MAILTO:info@oceanambassadorscanada.org
END:VEVENT
BEGIN:VEVENT
DTSTART;TZID=America/Vancouver:20250809T100000
DTEND;TZID=America/Vancouver:20250809T123000
DTSTAMP:20260423T033835
CREATED:20220626T224458Z
LAST-MODIFIED:20220626T224458Z
UID:1942-1754733600-1754742600@pickup3.org
SUMMARY:PickUp3 Centennial Beach
DESCRIPTION:
URL:https://pickup3.org/event/pickup3-centennial-beach/2025-08-09/
ORGANIZER;CN="Ocean Ambassadors Canada":MAILTO:info@oceanambassadorscanada.org
END:VEVENT
BEGIN:VEVENT
DTSTART;TZID=America/Vancouver:20250816T100000
DTEND;TZID=America/Vancouver:20250816T123000
DTSTAMP:20260423T033835
CREATED:20220626T224458Z
LAST-MODIFIED:20220626T224458Z
UID:1943-1755338400-1755347400@pickup3.org
SUMMARY:PickUp3 Centennial Beach
DESCRIPTION:
URL:https://pickup3.org/event/pickup3-centennial-beach/2025-08-16/
ORGANIZER;CN="Ocean Ambassadors Canada":MAILTO:info@oceanambassadorscanada.org
END:VEVENT
BEGIN:VEVENT
DTSTART;TZID=America/Vancouver:20250823T100000
DTEND;TZID=America/Vancouver:20250823T123000
DTSTAMP:20260423T033835
CREATED:20220626T224458Z
LAST-MODIFIED:20220626T224458Z
UID:1947-1755943200-1755952200@pickup3.org
SUMMARY:PickUp3 Centennial Beach
DESCRIPTION:
URL:https://pickup3.org/event/pickup3-centennial-beach/2025-08-23/
ORGANIZER;CN="Ocean Ambassadors Canada":MAILTO:info@oceanambassadorscanada.org
END:VEVENT
BEGIN:VEVENT
DTSTART;TZID=America/Vancouver:20250830T100000
DTEND;TZID=America/Vancouver:20250830T123000
DTSTAMP:20260423T033835
CREATED:20220626T224458Z
LAST-MODIFIED:20220626T224458Z
UID:1955-1756548000-1756557000@pickup3.org
SUMMARY:PickUp3 Centennial Beach
DESCRIPTION:
URL:https://pickup3.org/event/pickup3-centennial-beach/2025-08-30/
ORGANIZER;CN="Ocean Ambassadors Canada":MAILTO:info@oceanambassadorscanada.org
END:VEVENT
END:VCALENDAR