BEGIN:VCALENDAR
VERSION:2.0
PRODID:-//PickUp3 - ECPv6.15.17.1//NONSGML v1.0//EN
CALSCALE:GREGORIAN
METHOD:PUBLISH
X-ORIGINAL-URL:https://pickup3.org
X-WR-CALDESC:Events for PickUp3
REFRESH-INTERVAL;VALUE=DURATION:PT1H
X-Robots-Tag:noindex
X-PUBLISHED-TTL:PT1H
BEGIN:VTIMEZONE
TZID:America/Vancouver
BEGIN:DAYLIGHT
TZOFFSETFROM:-0800
TZOFFSETTO:-0700
TZNAME:PDT
DTSTART:20250309T100000
END:DAYLIGHT
BEGIN:STANDARD
TZOFFSETFROM:-0700
TZOFFSETTO:-0800
TZNAME:PST
DTSTART:20251102T090000
END:STANDARD
BEGIN:DAYLIGHT
TZOFFSETFROM:-0800
TZOFFSETTO:-0700
TZNAME:PDT
DTSTART:20260308T100000
END:DAYLIGHT
BEGIN:STANDARD
TZOFFSETFROM:-0700
TZOFFSETTO:-0800
TZNAME:PST
DTSTART:20261101T090000
END:STANDARD
BEGIN:DAYLIGHT
TZOFFSETFROM:-0800
TZOFFSETTO:-0700
TZNAME:PDT
DTSTART:20270314T100000
END:DAYLIGHT
BEGIN:STANDARD
TZOFFSETFROM:-0700
TZOFFSETTO:-0800
TZNAME:PST
DTSTART:20271107T090000
END:STANDARD
END:VTIMEZONE
BEGIN:VEVENT
DTSTART;TZID=America/Vancouver:20260207T100000
DTEND;TZID=America/Vancouver:20260207T123000
DTSTAMP:20260423T021352
CREATED:20220626T224458Z
LAST-MODIFIED:20220626T224458Z
UID:1985-1770458400-1770467400@pickup3.org
SUMMARY:PickUp3 Centennial Beach
DESCRIPTION:
URL:https://pickup3.org/event/pickup3-centennial-beach/2026-02-07/
ORGANIZER;CN="Ocean Ambassadors Canada":MAILTO:info@oceanambassadorscanada.org
END:VEVENT
BEGIN:VEVENT
DTSTART;TZID=America/Vancouver:20260214T100000
DTEND;TZID=America/Vancouver:20260214T123000
DTSTAMP:20260423T021352
CREATED:20220626T224458Z
LAST-MODIFIED:20220626T224458Z
UID:1988-1771063200-1771072200@pickup3.org
SUMMARY:PickUp3 Centennial Beach
DESCRIPTION:
URL:https://pickup3.org/event/pickup3-centennial-beach/2026-02-14/
ORGANIZER;CN="Ocean Ambassadors Canada":MAILTO:info@oceanambassadorscanada.org
END:VEVENT
BEGIN:VEVENT
DTSTART;TZID=America/Vancouver:20260221T100000
DTEND;TZID=America/Vancouver:20260221T123000
DTSTAMP:20260423T021352
CREATED:20220626T224458Z
LAST-MODIFIED:20220626T224458Z
UID:1989-1771668000-1771677000@pickup3.org
SUMMARY:PickUp3 Centennial Beach
DESCRIPTION:
URL:https://pickup3.org/event/pickup3-centennial-beach/2026-02-21/
ORGANIZER;CN="Ocean Ambassadors Canada":MAILTO:info@oceanambassadorscanada.org
END:VEVENT
BEGIN:VEVENT
DTSTART;TZID=America/Vancouver:20260228T100000
DTEND;TZID=America/Vancouver:20260228T123000
DTSTAMP:20260423T021352
CREATED:20220626T224458Z
LAST-MODIFIED:20220626T224458Z
UID:1993-1772272800-1772281800@pickup3.org
SUMMARY:PickUp3 Centennial Beach
DESCRIPTION:
URL:https://pickup3.org/event/pickup3-centennial-beach/2026-02-28/
ORGANIZER;CN="Ocean Ambassadors Canada":MAILTO:info@oceanambassadorscanada.org
END:VEVENT
END:VCALENDAR